BEGIN:VCALENDAR
VERSION:2.0
PRODID:-//ChamberMaster//Event Calendar 2.0//EN
METHOD:PUBLISH
X-PUBLISHED-TTL:P3D
REFRESH-INTERVAL:P3D
CALSCALE:GREGORIAN
BEGIN:VEVENT
DTSTART:20260418T140000Z
DTEND:20260418T160000Z
X-MICROSOFT-CDO-ALLDAYEVENT:FALSE
SUMMARY:Healthy Kids Day
DESCRIPTION:Option 3: Summer FUN starts at the Y! Join the Putnam County Family YMCA for Healthy Kids Day and get a sneak peek of all the exciting activities\, camps\, sports and high-energy adventures waiting for your family this summer. Let's make memories that will last all season long! Join us Saturday\, April 18thfrom 9am-11am. Free and open to the public.
X-ALT-DESC;FMTTYPE=text/html:Option 3: Summer FUN starts at the Y! Join the Putnam County Family YMCA for Healthy Kids Day and get a sneak peek of all the exciting activities\, camps\, sports and high-energy adventures waiting for your family this summer. Let&rsquo\;s make memories that will last all season long! Join us Saturday\, April 18thfrom 9am-11am. Free and open to the public.
LOCATION:Avery Trace Gym
UID:e.1993.2226
SEQUENCE:3
DTSTAMP:20260421T122938Z
URL:http://dev.cookevillechamber.com/events/details/healthy-kids-day-2226
END:VEVENT

END:VCALENDAR
